BEGIN:VCALENDAR
VERSION:2.0
PRODID:Events Booking
BEGIN:VEVENT
UID:69eba10d79958
SUMMARY:Reiterlager bei Reitsport Rave
DESCRIPTION:Wir bieten unseren Reitschülern\, gerne auch neuen Schülern\,
  eine erlebnisreiche Woche auf unserem Hof mit kompletter Verpflegung und 
 zweimal Unterricht oder Wanderritt mit Picknick am Tag mit Spiel und Spaß
 \, bei dem man auch noch was lernt. Selbstverständlich darf aber auch die
  Verpflegung unserer Pferde nicht zu kurz kommen. Es wird gemistet\, es wi
 rd gefüttert\, die Pferde gewaschen oder auch Schönheitswettbewerbe. Sie
  können nur einen Tag oder auch die ganze Woche buchen. Ganz wie Sie möc
 hten. Maximale Teilnehmerzahl am Tag sind 12 Schüler.
LOCATION:Plattenhof 1\, 65606 Villmar
DTSTART:20250408T080000Z
DTEND:20250411T140000Z
DTSTAMP:20250131T171211Z
ORGANIZER;CN=Reitsport Rave:MAILTO:info@reiten-sport.de
GEO:50.364589;8.219175
X-APPLE-STRUCTURED-LOCATION;VALUE=URI;X-ADDRESS=Plattenhof 1\, 65606 Villma
 r;X-APPLE-RADIUS=72;X-TITLE=Reitsport Rave:50.364589;8.219175
END:VEVENT
END:VCALENDAR