BEGIN:VCALENDAR
VERSION:2.0
PRODID:Events Booking
BEGIN:VEVENT
UID:69eba0333779f
SUMMARY:Reiterferien 14.10. - 17.10.2025
DESCRIPTION:Reiterferien bei Reitsport Rave
LOCATION:Plattenhof 1\, 65606 Villmar
DTSTART:20251014T080000Z
DTEND:20251017T140000Z
DTSTAMP:20250912T092410Z
ORGANIZER;CN=Reitsport Rave:MAILTO:info@reiten-sport.de
GEO:50.364589;8.219175
X-APPLE-STRUCTURED-LOCATION;VALUE=URI;X-ADDRESS=Plattenhof 1\, 65606 Villma
 r;X-APPLE-RADIUS=72;X-TITLE=Reitsport Rave:50.364589;8.219175
END:VEVENT
END:VCALENDAR