BEGIN:VCALENDAR
VERSION:2.0
PRODID:Events Booking
BEGIN:VEVENT
UID:69eb9fe961d76
SUMMARY:Reiterferien
DESCRIPTION:Reiterferien bei Reitsport Rave
LOCATION:Plattenhof 1\, 65606 Villmar
DTSTART:20250722T080000Z
DTEND:20250725T120000Z
DTSTAMP:20250605T204104Z
ORGANIZER;CN=Reitsport Rave:MAILTO:info@reiten-sport.de
GEO:50.364589;8.219175
X-APPLE-STRUCTURED-LOCATION;VALUE=URI;X-ADDRESS=Plattenhof 1\, 65606 Villma
 r;X-APPLE-RADIUS=72;X-TITLE=Reitsport Rave:50.364589;8.219175
END:VEVENT
END:VCALENDAR