BEGIN:VCALENDAR
VERSION:2.0
PRODID:Events Booking
BEGIN:VEVENT
UID:69eba0aadbc9f
SUMMARY:Reiterferien
DESCRIPTION:
LOCATION:Plattenhof 1\, 65606 Villmar
DTSTART:20241021T080000Z
DTEND:20241024T140000Z
DTSTAMP:20240919T060718Z
ORGANIZER;CN=Reitsport Rave:MAILTO:info@reiten-sport.de
GEO:50.364589;8.219175
X-APPLE-STRUCTURED-LOCATION;VALUE=URI;X-ADDRESS=Plattenhof 1\, 65606 Villma
 r;X-APPLE-RADIUS=72;X-TITLE=Reitsport Rave:50.364589;8.219175
END:VEVENT
END:VCALENDAR